Package: BiocVersion Version: 3.21.1 Command: /Library/Frameworks/R.framework/Resources/bin/R CMD INSTALL BiocVersion StartedAt: 2025-10-13 15:13:04 -0400 (Mon, 13 Oct 2025) EndedAt: 2025-10-13 15:13:11 -0400 (Mon, 13 Oct 2025) EllapsedTime: 7.2 seconds RetCode: 0 Status: OK