Package: BiocVersion Version: 3.21.1 Command: /Library/Frameworks/R.framework/Resources/bin/R CMD build --keep-empty-dirs --no-resave-data BiocVersion StartedAt: 2025-10-13 20:03:45 -0400 (Mon, 13 Oct 2025) EndedAt: 2025-10-13 20:03:47 -0400 (Mon, 13 Oct 2025) EllapsedTime: 1.2 seconds RetCode: 0 Status: OK PackageFile: BiocVersion_3.21.1.tar.gz PackageFileSize: 1006 bytes