Package: BiocStyle Version: 2.36.0 Command: /home/biocbuild/R/R/bin/R CMD INSTALL BiocStyle StartedAt: 2025-10-13 20:17:52 -0000 (Mon, 13 Oct 2025) EndedAt: 2025-10-13 20:18:39 -0000 (Mon, 13 Oct 2025) EllapsedTime: 46.5 seconds RetCode: 0 Status: OK