Package: BiocSklearn Version: 1.30.0 Command: /home/biocbuild/R/R/bin/R CMD build --keep-empty-dirs --no-resave-data BiocSklearn StartedAt: 2025-10-13 23:07:14 -0000 (Mon, 13 Oct 2025) EndedAt: 2025-10-13 23:08:09 -0000 (Mon, 13 Oct 2025) EllapsedTime: 55.0 seconds RetCode: 0 Status: OK PackageFile: BiocSklearn_1.30.0.tar.gz PackageFileSize: 32.54 MiB