Package: BiocSingular Version: 1.24.0 Command: /home/biocbuild/R/R/bin/R CMD build --keep-empty-dirs --no-resave-data BiocSingular StartedAt: 2025-10-13 23:07:05 -0000 (Mon, 13 Oct 2025) EndedAt: 2025-10-13 23:08:04 -0000 (Mon, 13 Oct 2025) EllapsedTime: 59.0 seconds RetCode: 0 Status: OK PackageFile: BiocSingular_1.24.0.tar.gz PackageFileSize: 733.5 KiB