Package: BiocSet Version: 1.22.0 Command: /Library/Frameworks/R.framework/Resources/bin/R CMD build --keep-empty-dirs --no-resave-data BiocSet StartedAt: 2025-10-13 20:00:58 -0400 (Mon, 13 Oct 2025) EndedAt: 2025-10-13 20:03:29 -0400 (Mon, 13 Oct 2025) EllapsedTime: 150.8 seconds RetCode: 0 Status: OK PackageFile: BiocSet_1.22.0.tar.gz PackageFileSize: 358.9 KiB