Package: BiocSet Version: 1.22.0 Command: rm -rf BiocSet.buildbin-libdir && mkdir BiocSet.buildbin-libdir && /Users/biocbuild/BBS/utils/build-universal.sh BiocSet_1.22.0.tar.gz /Library/Frameworks/R.framework/Resources/bin/R BiocSet.buildbin-libdir StartedAt: 2025-10-15 17:36:19 -0400 (Wed, 15 Oct 2025) EndedAt: 2025-10-15 17:36:41 -0400 (Wed, 15 Oct 2025) EllapsedTime: 21.7 seconds RetCode: 0 Status: OK PackageFile: BiocSet_1.22.0.tgz PackageFileSize: 776.1 KiB