Package: BiocPkgTools Version: 1.26.4 Command: /home/biocbuild/R/R/bin/R CMD INSTALL BiocPkgTools StartedAt: 2025-10-13 20:26:36 -0000 (Mon, 13 Oct 2025) EndedAt: 2025-10-13 20:26:53 -0000 (Mon, 13 Oct 2025) EllapsedTime: 17.1 seconds RetCode: 0 Status: OK