Package: BiocPkgTools Version: 1.26.4 Command: /home/biocbuild/R/R/bin/R CMD build --keep-empty-dirs --no-resave-data BiocPkgTools StartedAt: 2025-10-13 23:06:53 -0000 (Mon, 13 Oct 2025) EndedAt: 2025-10-13 23:13:34 -0000 (Mon, 13 Oct 2025) EllapsedTime: 401.1 seconds RetCode: 0 Status: OK PackageFile: BiocPkgTools_1.26.4.tar.gz PackageFileSize: 1.119 MiB