Package: BiocParallel Version: 1.42.2 Command: /home/biocbuild/bbs-3.21-bioc/R/bin/R CMD INSTALL BiocParallel StartedAt: 2025-10-15 15:03:57 -0400 (Wed, 15 Oct 2025) EndedAt: 2025-10-15 15:04:11 -0400 (Wed, 15 Oct 2025) EllapsedTime: 14.0 seconds RetCode: 0 Status: OK