Package: BiocParallel Version: 1.42.2 Command: /home/biocbuild/bbs-3.21-bioc/R/bin/R CMD build --keep-empty-dirs --no-resave-data BiocParallel StartedAt: 2025-10-15 16:25:56 -0400 (Wed, 15 Oct 2025) EndedAt: 2025-10-15 16:27:24 -0400 (Wed, 15 Oct 2025) EllapsedTime: 88.1 seconds RetCode: 0 Status: OK PackageFile: BiocParallel_1.42.2.tar.gz PackageFileSize: 1.051 MiB