Package: BiocParallel Version: 1.42.2 Command: /Library/Frameworks/R.framework/Resources/bin/R CMD build --keep-empty-dirs --no-resave-data BiocParallel StartedAt: 2025-10-13 20:00:03 -0400 (Mon, 13 Oct 2025) EndedAt: 2025-10-13 20:01:59 -0400 (Mon, 13 Oct 2025) EllapsedTime: 115.8 seconds RetCode: 0 Status: OK PackageFile: BiocParallel_1.42.2.tar.gz PackageFileSize: 1.051 MiB