Package: BiocIO Version: 1.18.0 Command: /home/biocbuild/R/R/bin/R CMD INSTALL BiocIO StartedAt: 2025-10-13 20:24:22 -0000 (Mon, 13 Oct 2025) EndedAt: 2025-10-13 20:24:29 -0000 (Mon, 13 Oct 2025) EllapsedTime: 7.1 seconds RetCode: 0 Status: OK