Package: BiocHubsShiny Version: 1.8.1 Command: /home/biocbuild/R/R/bin/R CMD INSTALL BiocHubsShiny StartedAt: 2025-10-13 20:40:19 -0000 (Mon, 13 Oct 2025) EndedAt: 2025-10-13 20:40:39 -0000 (Mon, 13 Oct 2025) EllapsedTime: 20.6 seconds RetCode: 0 Status: OK