Package: BiocHubsShiny Version: 1.8.1 Command: /home/biocbuild/R/R/bin/R CMD build --keep-empty-dirs --no-resave-data BiocHubsShiny StartedAt: 2025-10-13 23:06:26 -0000 (Mon, 13 Oct 2025) EndedAt: 2025-10-13 23:06:56 -0000 (Mon, 13 Oct 2025) EllapsedTime: 30.0 seconds RetCode: 0 Status: OK PackageFile: BiocHubsShiny_1.8.1.tar.gz PackageFileSize: 1.63 MiB