Package: BiocGenerics Version: 0.54.1 Command: /home/biocbuild/R/R/bin/R CMD INSTALL BiocGenerics StartedAt: 2025-10-13 20:23:02 -0000 (Mon, 13 Oct 2025) EndedAt: 2025-10-13 20:23:10 -0000 (Mon, 13 Oct 2025) EllapsedTime: 8.6 seconds RetCode: 0 Status: OK