Package: BiocGenerics Version: 0.54.1 Command: /home/biocbuild/R/R/bin/R CMD build --keep-empty-dirs --no-resave-data BiocGenerics StartedAt: 2025-10-13 23:06:13 -0000 (Mon, 13 Oct 2025) EndedAt: 2025-10-13 23:06:14 -0000 (Mon, 13 Oct 2025) EllapsedTime: 1.0 seconds RetCode: 0 Status: OK PackageFile: BiocGenerics_0.54.1.tar.gz PackageFileSize: 55.17 KiB