Package: BiocGenerics Version: 0.54.1 Maintainer: Hervé Pagès MaintainerEmail: hpages.on.github at gmail.com git_url: https://git.bioconductor.org/packages/BiocGenerics git_branch: RELEASE_3_21 git_last_commit: 4fc4bea git_last_commit_date: 2025-07-28 13:19:16 -0400 (Mon, 28 Jul 2025)