Package: BiocFileCache Version: 2.16.2 Command: /home/biocbuild/bbs-3.21-bioc/R/bin/R CMD build --keep-empty-dirs --no-resave-data BiocFileCache StartedAt: 2025-10-15 16:25:32 -0400 (Wed, 15 Oct 2025) EndedAt: 2025-10-15 16:26:24 -0400 (Wed, 15 Oct 2025) EllapsedTime: 52.1 seconds RetCode: 1 Status: ERROR PackageFile: None PackageFileSize: NA