Package: BiocFileCache Version: 2.16.2 Command: /Library/Frameworks/R.framework/Resources/bin/R CMD INSTALL BiocFileCache StartedAt: 2025-10-13 15:16:32 -0400 (Mon, 13 Oct 2025) EndedAt: 2025-10-13 15:16:58 -0400 (Mon, 13 Oct 2025) EllapsedTime: 26.1 seconds RetCode: 0 Status: OK