Package: BiocFileCache Version: 2.16.2 Command: /home/biocbuild/R/R/bin/R CMD INSTALL BiocFileCache StartedAt: 2025-10-13 20:20:19 -0000 (Mon, 13 Oct 2025) EndedAt: 2025-10-13 20:20:30 -0000 (Mon, 13 Oct 2025) EllapsedTime: 11.7 seconds RetCode: 0 Status: OK