Package: BiocFileCache Version: 2.16.2 Command: /home/biocbuild/R/R/bin/R CMD build --keep-empty-dirs --no-resave-data BiocFileCache StartedAt: 2025-10-13 23:06:08 -0000 (Mon, 13 Oct 2025) EndedAt: 2025-10-13 23:09:03 -0000 (Mon, 13 Oct 2025) EllapsedTime: 175.1 seconds RetCode: 0 Status: OK PackageFile: BiocFileCache_2.16.2.tar.gz PackageFileSize: 796.3 KiB