Package: BiocFileCache Version: 2.16.2 Command: /Library/Frameworks/R.framework/Resources/bin/R CMD INSTALL BiocFileCache StartedAt: 2025-10-13 15:25:40 -0400 (Mon, 13 Oct 2025) EndedAt: 2025-10-13 15:25:48 -0400 (Mon, 13 Oct 2025) EllapsedTime: 8.0 seconds RetCode: 0 Status: OK