Package: BiocFileCache Version: 2.16.2 Command: /Library/Frameworks/R.framework/Resources/bin/R CMD build --keep-empty-dirs --no-resave-data BiocFileCache StartedAt: 2025-10-13 19:58:43 -0400 (Mon, 13 Oct 2025) EndedAt: 2025-10-13 20:00:03 -0400 (Mon, 13 Oct 2025) EllapsedTime: 80.0 seconds RetCode: 0 Status: OK PackageFile: BiocFileCache_2.16.2.tar.gz PackageFileSize: 722.6 KiB