Package: BiocCheck Version: 1.44.2 Command: /home/biocbuild/bbs-3.21-bioc/R/bin/R CMD build --keep-empty-dirs --no-resave-data BiocCheck StartedAt: 2025-10-15 16:25:29 -0400 (Wed, 15 Oct 2025) EndedAt: 2025-10-15 16:25:43 -0400 (Wed, 15 Oct 2025) EllapsedTime: 14.0 seconds RetCode: 0 Status: OK PackageFile: BiocCheck_1.44.2.tar.gz PackageFileSize: 309.3 KiB