Package: BiocCheck Version: 1.44.2 Command: /home/biocbuild/R/R/bin/R CMD INSTALL BiocCheck StartedAt: 2025-10-13 20:26:37 -0000 (Mon, 13 Oct 2025) EndedAt: 2025-10-13 20:26:53 -0000 (Mon, 13 Oct 2025) EllapsedTime: 16.1 seconds RetCode: 0 Status: OK