Package: BiocCheck Version: 1.44.2 Command: /home/biocbuild/R/R/bin/R CMD build --keep-empty-dirs --no-resave-data BiocCheck StartedAt: 2025-10-13 23:05:52 -0000 (Mon, 13 Oct 2025) EndedAt: 2025-10-13 23:06:13 -0000 (Mon, 13 Oct 2025) EllapsedTime: 21.0 seconds RetCode: 0 Status: OK PackageFile: BiocCheck_1.44.2.tar.gz PackageFileSize: 333.3 KiB