Package: BiocBaseUtils Version: 1.10.0 Command: /Library/Frameworks/R.framework/Resources/bin/R CMD build --keep-empty-dirs --no-resave-data BiocBaseUtils StartedAt: 2025-10-13 17:23:23 -0400 (Mon, 13 Oct 2025) EndedAt: 2025-10-13 17:23:35 -0400 (Mon, 13 Oct 2025) EllapsedTime: 11.5 seconds RetCode: 0 Status: OK PackageFile: BiocBaseUtils_1.10.0.tar.gz PackageFileSize: 226.1 KiB