Package: BioTIP Version: 1.22.0 Command: /Library/Frameworks/R.framework/Resources/bin/R CMD build --keep-empty-dirs --no-resave-data BioTIP StartedAt: 2025-10-13 17:28:43 -0400 (Mon, 13 Oct 2025) EndedAt: 2025-10-13 17:32:05 -0400 (Mon, 13 Oct 2025) EllapsedTime: 202.5 seconds RetCode: 0 Status: OK PackageFile: BioTIP_1.22.0.tar.gz PackageFileSize: 41.56 MiB