Package: BioTIP Version: 1.22.0 Command: /Library/Frameworks/R.framework/Resources/bin/R CMD INSTALL BioTIP StartedAt: 2025-04-21 15:45:53 -0400 (Mon, 21 Apr 2025) EndedAt: 2025-04-21 15:46:09 -0400 (Mon, 21 Apr 2025) EllapsedTime: 16.3 seconds RetCode: 0 Status: OK