Package: BioTIP Version: 1.22.0 Command: /Library/Frameworks/R.framework/Resources/bin/R CMD build --keep-empty-dirs --no-resave-data BioTIP StartedAt: 2025-10-13 20:10:20 -0400 (Mon, 13 Oct 2025) EndedAt: 2025-10-13 20:12:39 -0400 (Mon, 13 Oct 2025) EllapsedTime: 139.1 seconds RetCode: 0 Status: OK PackageFile: BioTIP_1.22.0.tar.gz PackageFileSize: 41.57 MiB