Package: BioQC Version: 1.36.0 Command: /home/biocbuild/bbs-3.21-bioc/R/bin/R CMD build --keep-empty-dirs --no-resave-data BioQC StartedAt: 2025-10-15 16:27:46 -0400 (Wed, 15 Oct 2025) EndedAt: 2025-10-15 16:29:36 -0400 (Wed, 15 Oct 2025) EllapsedTime: 110.1 seconds RetCode: 0 Status: OK PackageFile: BioQC_1.36.0.tar.gz PackageFileSize: 4.3 MiB