Package: BioQC Version: 1.36.0 Command: /Library/Frameworks/R.framework/Resources/bin/R CMD INSTALL BioQC StartedAt: 2025-10-13 15:33:24 -0400 (Mon, 13 Oct 2025) EndedAt: 2025-10-13 15:33:39 -0400 (Mon, 13 Oct 2025) EllapsedTime: 15.3 seconds RetCode: 0 Status: OK