Package: BioQC Version: 1.36.0 Command: /Library/Frameworks/R.framework/Resources/bin/R CMD build --keep-empty-dirs --no-resave-data BioQC StartedAt: 2025-10-13 20:08:06 -0400 (Mon, 13 Oct 2025) EndedAt: 2025-10-13 20:10:47 -0400 (Mon, 13 Oct 2025) EllapsedTime: 161.5 seconds RetCode: 0 Status: OK PackageFile: BioQC_1.36.0.tar.gz PackageFileSize: 4.301 MiB