Package: BioNet Version: 1.68.0 Command: /home/biocbuild/bbs-3.21-bioc/R/bin/R CMD build --keep-empty-dirs --no-resave-data BioNet StartedAt: 2025-10-15 16:27:31 -0400 (Wed, 15 Oct 2025) EndedAt: 2025-10-15 16:28:21 -0400 (Wed, 15 Oct 2025) EllapsedTime: 50.0 seconds RetCode: 0 Status: OK PackageFile: BioNet_1.68.0.tar.gz PackageFileSize: 1.801 MiB