Package: BioNet Version: 1.68.0 Command: /home/biocbuild/R/R/bin/R CMD INSTALL BioNet StartedAt: 2025-10-13 20:39:33 -0000 (Mon, 13 Oct 2025) EndedAt: 2025-10-13 20:39:53 -0000 (Mon, 13 Oct 2025) EllapsedTime: 19.4 seconds RetCode: 0 Status: OK