Package: BioNet Version: 1.68.0 Command: /home/biocbuild/R/R/bin/R CMD build --keep-empty-dirs --no-resave-data BioNet StartedAt: 2025-10-13 23:09:38 -0000 (Mon, 13 Oct 2025) EndedAt: 2025-10-13 23:10:50 -0000 (Mon, 13 Oct 2025) EllapsedTime: 72.0 seconds RetCode: 0 Status: OK PackageFile: BioNet_1.68.0.tar.gz PackageFileSize: 1.792 MiB