Package: BioNet Version: 1.68.0 Command: /Library/Frameworks/R.framework/Resources/bin/R CMD INSTALL BioNet StartedAt: 2025-10-13 15:47:10 -0400 (Mon, 13 Oct 2025) EndedAt: 2025-10-13 15:47:27 -0400 (Mon, 13 Oct 2025) EllapsedTime: 16.6 seconds RetCode: 0 Status: OK