Package: BioNet Version: 1.68.0 Command: /Library/Frameworks/R.framework/Resources/bin/R CMD build --keep-empty-dirs --no-resave-data BioNet StartedAt: 2025-10-13 20:07:22 -0400 (Mon, 13 Oct 2025) EndedAt: 2025-10-13 20:08:30 -0400 (Mon, 13 Oct 2025) EllapsedTime: 67.7 seconds RetCode: 0 Status: OK PackageFile: BioNet_1.68.0.tar.gz PackageFileSize: 1.802 MiB