Package: BioNERO Version: 1.16.3 Command: /home/biocbuild/R/R/bin/R CMD INSTALL BioNERO StartedAt: 2025-10-13 21:05:34 -0000 (Mon, 13 Oct 2025) EndedAt: 2025-10-13 21:06:25 -0000 (Mon, 13 Oct 2025) EllapsedTime: 51.3 seconds RetCode: 0 Status: OK