Package: BioNERO Version: 1.16.3 Command: /home/biocbuild/R/R/bin/R CMD build --keep-empty-dirs --no-resave-data BioNERO StartedAt: 2025-10-13 23:09:31 -0000 (Mon, 13 Oct 2025) EndedAt: 2025-10-13 23:20:07 -0000 (Mon, 13 Oct 2025) EllapsedTime: 636.2 seconds RetCode: 0 Status: OK PackageFile: BioNERO_1.16.3.tar.gz PackageFileSize: 4.827 MiB