Package: BioNAR Version: 1.10.0 Command: /home/biocbuild/bbs-3.21-bioc/R/bin/R CMD INSTALL BioNAR StartedAt: 2025-10-15 15:46:44 -0400 (Wed, 15 Oct 2025) EndedAt: 2025-10-15 15:47:10 -0400 (Wed, 15 Oct 2025) EllapsedTime: 25.5 seconds RetCode: 0 Status: OK