Package: BioMVCClass Version: 1.76.0 Command: /Library/Frameworks/R.framework/Resources/bin/R CMD check --install=check:BioMVCClass.install-out.txt --library=/Library/Frameworks/R.framework/Resources/library --no-vignettes --timings BioMVCClass_1.76.0.tar.gz StartedAt: 2025-10-14 00:41:44 -0400 (Tue, 14 Oct 2025) EndedAt: 2025-10-14 00:42:48 -0400 (Tue, 14 Oct 2025) EllapsedTime: 63.2 seconds RetCode: 0 Status: OK CheckDir: BioMVCClass.Rcheck Warnings: 0