Package: BioGA Version: 1.2.0 Command: /home/biocbuild/bbs-3.21-bioc/R/bin/R CMD build --keep-empty-dirs --no-resave-data BioGA StartedAt: 2025-10-15 16:27:07 -0400 (Wed, 15 Oct 2025) EndedAt: 2025-10-15 16:28:00 -0400 (Wed, 15 Oct 2025) EllapsedTime: 53.0 seconds RetCode: 0 Status: OK PackageFile: BioGA_1.2.0.tar.gz PackageFileSize: 328.5 KiB