Package: BioGA Version: 1.2.0 Command: /home/biocbuild/R/R/bin/R CMD INSTALL BioGA StartedAt: 2025-10-13 21:17:14 -0000 (Mon, 13 Oct 2025) EndedAt: 2025-10-13 21:18:17 -0000 (Mon, 13 Oct 2025) EllapsedTime: 63.6 seconds RetCode: 0 Status: OK