Package: BioGA Version: 1.2.0 Command: /home/biocbuild/R/R/bin/R CMD build --keep-empty-dirs --no-resave-data BioGA StartedAt: 2025-10-13 23:08:59 -0000 (Mon, 13 Oct 2025) EndedAt: 2025-10-13 23:10:16 -0000 (Mon, 13 Oct 2025) EllapsedTime: 77.0 seconds RetCode: 0 Status: OK PackageFile: BioGA_1.2.0.tar.gz PackageFileSize: 334.6 KiB