Package: BioCor Version: 1.32.0 Command: /home/biocbuild/R/R/bin/R CMD INSTALL BioCor StartedAt: 2025-10-13 20:44:40 -0000 (Mon, 13 Oct 2025) EndedAt: 2025-10-13 20:45:08 -0000 (Mon, 13 Oct 2025) EllapsedTime: 27.9 seconds RetCode: 0 Status: OK