Package: BioCor Version: 1.32.0 Command: /home/biocbuild/R/R/bin/R CMD build --keep-empty-dirs --no-resave-data BioCor StartedAt: 2025-10-13 23:06:44 -0000 (Mon, 13 Oct 2025) EndedAt: 2025-10-13 23:14:05 -0000 (Mon, 13 Oct 2025) EllapsedTime: 441.1 seconds RetCode: 0 Status: OK PackageFile: BioCor_1.32.0.tar.gz PackageFileSize: 1.549 MiB