Package: BioCartaImage Version: 1.6.0 Command: /home/biocbuild/bbs-3.21-bioc/R/bin/R CMD INSTALL BioCartaImage StartedAt: 2025-10-15 15:02:34 -0400 (Wed, 15 Oct 2025) EndedAt: 2025-10-15 15:02:52 -0400 (Wed, 15 Oct 2025) EllapsedTime: 18.4 seconds RetCode: 0 Status: OK