Package: BioCartaImage Version: 1.6.0 Command: /home/biocbuild/R/R/bin/R CMD build --keep-empty-dirs --no-resave-data BioCartaImage StartedAt: 2025-10-13 23:05:35 -0000 (Mon, 13 Oct 2025) EndedAt: 2025-10-13 23:05:50 -0000 (Mon, 13 Oct 2025) EllapsedTime: 15.0 seconds RetCode: 0 Status: OK PackageFile: BioCartaImage_1.6.0.tar.gz PackageFileSize: 3.65 MiB